BEGIN:VCALENDAR
VERSION:2.0
PRODID:-//MBLEx Tutors - ECPv6.15.20//NONSGML v1.0//EN
CALSCALE:GREGORIAN
METHOD:PUBLISH
X-ORIGINAL-URL:https://mblextutors.com
X-WR-CALDESC:Events for MBLEx Tutors
REFRESH-INTERVAL;VALUE=DURATION:PT1H
X-Robots-Tag:noindex
X-PUBLISHED-TTL:PT1H
BEGIN:VTIMEZONE
TZID:America/New_York
BEGIN:DAYLIGHT
TZOFFSETFROM:-0500
TZOFFSETTO:-0400
TZNAME:EDT
DTSTART:20250309T070000
END:DAYLIGHT
BEGIN:STANDARD
TZOFFSETFROM:-0400
TZOFFSETTO:-0500
TZNAME:EST
DTSTART:20251102T060000
END:STANDARD
BEGIN:DAYLIGHT
TZOFFSETFROM:-0500
TZOFFSETTO:-0400
TZNAME:EDT
DTSTART:20260308T070000
END:DAYLIGHT
BEGIN:STANDARD
TZOFFSETFROM:-0400
TZOFFSETTO:-0500
TZNAME:EST
DTSTART:20261101T060000
END:STANDARD
BEGIN:DAYLIGHT
TZOFFSETFROM:-0500
TZOFFSETTO:-0400
TZNAME:EDT
DTSTART:20270314T070000
END:DAYLIGHT
BEGIN:STANDARD
TZOFFSETFROM:-0400
TZOFFSETTO:-0500
TZNAME:EST
DTSTART:20271107T060000
END:STANDARD
END:VTIMEZONE
BEGIN:VEVENT
DTSTART;TZID=America/New_York:20260423T130000
DTEND;TZID=America/New_York:20260423T160000
DTSTAMP:20260425T184544
CREATED:20260321T155202Z
LAST-MODIFIED:20260321T155202Z
UID:4147-1776949200-1776960000@mblextutors.com
SUMMARY:100 Question Practice Test w/David\, 4/23/26
DESCRIPTION:100 Question Practice Test\nJoin David as we go over a complete 100 question practice test! This practice test can help not only with assessing readiness for the MBLEx\, but with understanding test techniques\, and gives insight on how to improve test scores by utilizing specific strategies that could be the difference between passing the MBLEx or not! \nAfter registration\, the practice test will be emailed to the registrant as a Google Drive download. Simply download the test\, print and take the test on your own(or wait until we go over it together)\, then join us for this session where we discuss each question one-by-one! \n$25 per hour ($75 total) \nAfter payment is successful\, you will be redirected to the registration page.  Register for the event\, and the event link will be emailed to you with your registration confirmation. \nRegister ×
URL:https://mblextutors.com/events/100-question-practice-test-w-david-4-23-26/
CATEGORIES:David
ATTACH;FMTTYPE=image/webp:https://mblextutors.com/wp-content/uploads/2025/12/david-thumbnail.webp
END:VEVENT
END:VCALENDAR