BEGIN:VCALENDAR
VERSION:2.0
PRODID:-//MBLEx Tutors - ECPv6.15.20//NONSGML v1.0//EN
CALSCALE:GREGORIAN
METHOD:PUBLISH
X-ORIGINAL-URL:https://mblextutors.com
X-WR-CALDESC:Events for MBLEx Tutors
REFRESH-INTERVAL;VALUE=DURATION:PT1H
X-Robots-Tag:noindex
X-PUBLISHED-TTL:PT1H
BEGIN:VTIMEZONE
TZID:America/New_York
BEGIN:DAYLIGHT
TZOFFSETFROM:-0500
TZOFFSETTO:-0400
TZNAME:EDT
DTSTART:20250309T070000
END:DAYLIGHT
BEGIN:STANDARD
TZOFFSETFROM:-0400
TZOFFSETTO:-0500
TZNAME:EST
DTSTART:20251102T060000
END:STANDARD
BEGIN:DAYLIGHT
TZOFFSETFROM:-0500
TZOFFSETTO:-0400
TZNAME:EDT
DTSTART:20260308T070000
END:DAYLIGHT
BEGIN:STANDARD
TZOFFSETFROM:-0400
TZOFFSETTO:-0500
TZNAME:EST
DTSTART:20261101T060000
END:STANDARD
BEGIN:DAYLIGHT
TZOFFSETFROM:-0500
TZOFFSETTO:-0400
TZNAME:EDT
DTSTART:20270314T070000
END:DAYLIGHT
BEGIN:STANDARD
TZOFFSETFROM:-0400
TZOFFSETTO:-0500
TZNAME:EST
DTSTART:20271107T060000
END:STANDARD
END:VTIMEZONE
BEGIN:VEVENT
DTSTART;TZID=America/New_York:20260504T130000
DTEND;TZID=America/New_York:20260504T160000
DTSTAMP:20260425T215745
CREATED:20260425T195824Z
LAST-MODIFIED:20260425T202442Z
UID:4220-1777899600-1777910400@mblextutors.com
SUMMARY:Anatomy and Physiology Review Part 1 w/David\, 5/4/26
DESCRIPTION:Anatomy and Physiology Review\, Part 1\nJoin David for a review of Anatomy and Physiology! This course spans two sessions. In part 1\, we will discuss anatomy\, regional anatomy\, cells\, tissues\, and body systems including the Cardiovascular\, Digestive\, Endocrine\, Integumentary\, and Lymphatic Systems! \nPart 1 will review the following: \n\nAnatomy\nHomeostasis\nDirectional Anatomy\nRegional Anatomy\nCells\nTissues\nCardiovascular System\nDigestive System\nEndocrine System\nIntegumentary System\nLymphatic System\n\n$25 per hour ($75 total) \nAfter payment is successful\, you will be redirected to the registration page.  Register for the event\, and the event link will be emailed to you with your registration confirmation. \nRegister ×
URL:https://mblextutors.com/events/anatomy-and-physiology-review-part-1-w-david-5-4-26/
CATEGORIES:David
ATTACH;FMTTYPE=image/webp:https://mblextutors.com/wp-content/uploads/2025/12/david-thumbnail.webp
END:VEVENT
END:VCALENDAR