BEGIN:VCALENDAR
VERSION:2.0
PRODID:-//MBLEx Tutors - ECPv6.15.20//NONSGML v1.0//EN
CALSCALE:GREGORIAN
METHOD:PUBLISH
X-ORIGINAL-URL:https://mblextutors.com
X-WR-CALDESC:Events for MBLEx Tutors
REFRESH-INTERVAL;VALUE=DURATION:PT1H
X-Robots-Tag:noindex
X-PUBLISHED-TTL:PT1H
BEGIN:VTIMEZONE
TZID:America/New_York
BEGIN:DAYLIGHT
TZOFFSETFROM:-0500
TZOFFSETTO:-0400
TZNAME:EDT
DTSTART:20250309T070000
END:DAYLIGHT
BEGIN:STANDARD
TZOFFSETFROM:-0400
TZOFFSETTO:-0500
TZNAME:EST
DTSTART:20251102T060000
END:STANDARD
BEGIN:DAYLIGHT
TZOFFSETFROM:-0500
TZOFFSETTO:-0400
TZNAME:EDT
DTSTART:20260308T070000
END:DAYLIGHT
BEGIN:STANDARD
TZOFFSETFROM:-0400
TZOFFSETTO:-0500
TZNAME:EST
DTSTART:20261101T060000
END:STANDARD
BEGIN:DAYLIGHT
TZOFFSETFROM:-0500
TZOFFSETTO:-0400
TZNAME:EDT
DTSTART:20270314T070000
END:DAYLIGHT
BEGIN:STANDARD
TZOFFSETFROM:-0400
TZOFFSETTO:-0500
TZNAME:EST
DTSTART:20271107T060000
END:STANDARD
END:VTIMEZONE
BEGIN:VEVENT
DTSTART;TZID=America/New_York:20260422T143000
DTEND;TZID=America/New_York:20260422T160000
DTSTAMP:20260425T184207
CREATED:20260324T184837Z
LAST-MODIFIED:20260324T184837Z
UID:4170-1776868200-1776873600@mblextutors.com
SUMMARY:Benefits\, Effects\, and Assessment Review w/Sherra\, 4/22/26
DESCRIPTION:Benefits\, Effects\, and Assessment Review\nGeneral review of the Benefits & Effects\, and Client Assessment\, sections of the exam. We will discuss important study points and sample questions. \nIdeal for the student who has tested borderline or low in one or both of these sections\, or who needs additional tutoring in their course. \n$25 per hour ($35 total) \nAfter payment is successful\, you will be redirected to the registration page.  Register for the event\, and the event link will be emailed to you with your registration confirmation. \nRegister ×
URL:https://mblextutors.com/events/benefits-effects-and-assessment-review-w-sherra-4-22-26/
CATEGORIES:Sherra
ATTACH;FMTTYPE=image/webp:https://mblextutors.com/wp-content/uploads/2025/12/sherra-thumbnail.webp
END:VEVENT
END:VCALENDAR