BEGIN:VCALENDAR
VERSION:2.0
PRODID:-//MBLEx Tutors - ECPv6.15.20//NONSGML v1.0//EN
CALSCALE:GREGORIAN
METHOD:PUBLISH
X-WR-CALNAME:MBLEx Tutors
X-ORIGINAL-URL:https://mblextutors.com
X-WR-CALDESC:Events for MBLEx Tutors
REFRESH-INTERVAL;VALUE=DURATION:PT1H
X-Robots-Tag:noindex
X-PUBLISHED-TTL:PT1H
BEGIN:VTIMEZONE
TZID:America/New_York
BEGIN:DAYLIGHT
TZOFFSETFROM:-0500
TZOFFSETTO:-0400
TZNAME:EDT
DTSTART:20250309T070000
END:DAYLIGHT
BEGIN:STANDARD
TZOFFSETFROM:-0400
TZOFFSETTO:-0500
TZNAME:EST
DTSTART:20251102T060000
END:STANDARD
BEGIN:DAYLIGHT
TZOFFSETFROM:-0500
TZOFFSETTO:-0400
TZNAME:EDT
DTSTART:20260308T070000
END:DAYLIGHT
BEGIN:STANDARD
TZOFFSETFROM:-0400
TZOFFSETTO:-0500
TZNAME:EST
DTSTART:20261101T060000
END:STANDARD
BEGIN:DAYLIGHT
TZOFFSETFROM:-0500
TZOFFSETTO:-0400
TZNAME:EDT
DTSTART:20270314T070000
END:DAYLIGHT
BEGIN:STANDARD
TZOFFSETFROM:-0400
TZOFFSETTO:-0500
TZNAME:EST
DTSTART:20271107T060000
END:STANDARD
END:VTIMEZONE
BEGIN:VEVENT
DTSTART;TZID=America/New_York:20260505T150000
DTEND;TZID=America/New_York:20260505T170000
DTSTAMP:20260425T183901
CREATED:20260421T191445Z
LAST-MODIFIED:20260421T192748Z
UID:4186-1777993200-1778000400@mblextutors.com
SUMMARY:Anatomy Review w/Sherra\, 5/5/26
DESCRIPTION:Anatomy Review\nGeneral review of anatomy and physiology section of exam.  We will discuss important test points for each body system and sample questions. \nThis course is ideal for the student who has tested borderline or low in Anatomy\, or who needs additional tutoring in their course to round out their knowledge. \n$25 per hour ($50 total) \nAfter payment is successful\, you will be redirected to the registration page.  Register for the event\, and the event link will be emailed to you with your registration confirmation. \nRegister ×
URL:https://mblextutors.com/events/anatomy-review-w-sherra-5-5-2026/
CATEGORIES:Sherra
ATTACH;FMTTYPE=image/webp:https://mblextutors.com/wp-content/uploads/2025/12/sherra-thumbnail.webp
END:VEVENT
BEGIN:VEVENT
DTSTART;TZID=America/New_York:20260506T140000
DTEND;TZID=America/New_York:20260506T160000
DTSTAMP:20260425T183901
CREATED:20260421T192636Z
LAST-MODIFIED:20260421T192636Z
UID:4193-1778076000-1778083200@mblextutors.com
SUMMARY:Pathology\, Contraindications\, and Special Populations w/Sherra\, 5/6/26
DESCRIPTION:Pathology\, Contraindications\, and Special Populations\nIn-depth review of Pathology\, contraindications\, and special populations section of the exam. We will discuss exam points in depth. We will also review sample questions. \nThis course is ideal for the student who has tested borderline or low in Pathology\, or who needs additional tutoring in their course to round out their knowledge. \n$25 per hour ($50 total) \nAfter payment is successful\, you will be redirected to the registration page.  Register for the event\, and the event link will be emailed to you with your registration confirmation. \nRegister ×
URL:https://mblextutors.com/events/pathology-contraindications-and-special-populations-w-sherra-5-6-26/
CATEGORIES:Sherra
ATTACH;FMTTYPE=image/webp:https://mblextutors.com/wp-content/uploads/2025/12/sherra-thumbnail.webp
END:VEVENT
BEGIN:VEVENT
DTSTART;TZID=America/New_York:20260510T100000
DTEND;TZID=America/New_York:20260510T120000
DTSTAMP:20260425T183901
CREATED:20260421T193215Z
LAST-MODIFIED:20260421T193215Z
UID:4200-1778407200-1778414400@mblextutors.com
SUMMARY:Kinesiology Review w/Sherra\, 5/10/26
DESCRIPTION:Kinesiology Review\nIn this session\, Sherra provides an in-depth review of Kinesiology\, including a detailed review of all important muscles\, actions\, attachment sites\, and pathologies.  We will also discuss exam points and review sample questions.  This course includes a companion PDF that will be emailed prior to the session beginning. \nThis course is ideal for the student who has tested borderline or low in Kinesiology\, or who needs additional tutoring in their course to round out their knowledge. \n$25 per hour ($50 total) \nAfter payment is successful\, you will be redirected to the registration page.  Register for the event\, and the event link will be emailed to you with your registration confirmation. \nRegister ×
URL:https://mblextutors.com/events/kinesiology-review-w-sherra-5-10-26/
CATEGORIES:Sherra
ATTACH;FMTTYPE=image/webp:https://mblextutors.com/wp-content/uploads/2025/12/sherra-thumbnail.webp
END:VEVENT
BEGIN:VEVENT
DTSTART;TZID=America/New_York:20260512T150000
DTEND;TZID=America/New_York:20260512T170000
DTSTAMP:20260425T183901
CREATED:20260421T193639Z
LAST-MODIFIED:20260421T193639Z
UID:4203-1778598000-1778605200@mblextutors.com
SUMMARY:Kinesiology Review w/Sherra\, 5/12/26
DESCRIPTION:Kinesiology Review\nIn this session\, Sherra provides an in-depth review of Kinesiology\, including a detailed review of all important muscles\, actions\, attachment sites\, and pathologies.  We will also discuss exam points and review sample questions.  This course includes a companion PDF that will be emailed prior to the session beginning. \nThis course is ideal for the student who has tested borderline or low in Kinesiology\, or who needs additional tutoring in their course to round out their knowledge. \n$25 per hour ($50 total) \nAfter payment is successful\, you will be redirected to the registration page.  Register for the event\, and the event link will be emailed to you with your registration confirmation. \nRegister ×
URL:https://mblextutors.com/events/kinesiology-review-w-sherra-5-12-26/
CATEGORIES:Sherra
ATTACH;FMTTYPE=image/webp:https://mblextutors.com/wp-content/uploads/2025/12/sherra-thumbnail.webp
END:VEVENT
BEGIN:VEVENT
DTSTART;TZID=America/New_York:20260514T130000
DTEND;TZID=America/New_York:20260514T150000
DTSTAMP:20260425T183901
CREATED:20260321T153927Z
LAST-MODIFIED:20260416T150541Z
UID:4142-1778763600-1778770800@mblextutors.com
SUMMARY:Massage Therapy Review w/David\, 5/14/26
DESCRIPTION:Massage Therapy Review\nJoin David as we discuss massage therapy!  In this session\, we will review strokes\, mechanical vs reflexive effects\, joint mobilizations\, stretches\, modalities\, spa treatments\, and more!  This course is a great way to review the stuff you went to school for\, and is a great way to review the basics of massage therapy you may have forgotten while studying more difficult subjects! \nThis course will review: \n\nMassage Strokes\nMechanical vs Reflexive Effects\nJoint Mobilizations\nStretching\nMassage Equipment\nDraping and Bolsters\nMassage Modalities\nSpa Treatments\n\n$25 per hour ($50 total) \nAfter payment is successful\, you will be redirected to the registration page.  Register for the event\, and the event link will be emailed to you with your registration confirmation. \nRegister ×
URL:https://mblextutors.com/events/massage-therapy-review-w-david-4-16-26/
CATEGORIES:David
ATTACH;FMTTYPE=image/webp:https://mblextutors.com/wp-content/uploads/2025/12/david-thumbnail.webp
END:VEVENT
BEGIN:VEVENT
DTSTART;TZID=America/New_York:20260519T150000
DTEND;TZID=America/New_York:20260519T163000
DTSTAMP:20260425T183901
CREATED:20260421T194109Z
LAST-MODIFIED:20260421T194109Z
UID:4206-1779202800-1779208200@mblextutors.com
SUMMARY:Benefits\, Effects\, and Assessment Review w/Sherra\, 5/19/26
DESCRIPTION:Benefits\, Effects\, and Assessment Review\nGeneral review of the Benefits & Effects\, and Client Assessment\, sections of the exam. We will discuss important study points and sample questions. \nIdeal for the student who has tested borderline or low in one or both of these sections\, or who needs additional tutoring in their course. \n$25 per hour ($35 total) \nAfter payment is successful\, you will be redirected to the registration page.  Register for the event\, and the event link will be emailed to you with your registration confirmation. \nRegister ×
URL:https://mblextutors.com/events/benefits-effects-and-assessment-review-w-sherra-5-19-26/
CATEGORIES:Sherra
ATTACH;FMTTYPE=image/webp:https://mblextutors.com/wp-content/uploads/2025/12/sherra-thumbnail.webp
END:VEVENT
BEGIN:VEVENT
DTSTART;TZID=America/New_York:20260520T143000
DTEND;TZID=America/New_York:20260520T160000
DTSTAMP:20260425T183901
CREATED:20260421T194522Z
LAST-MODIFIED:20260421T194522Z
UID:4209-1779287400-1779292800@mblextutors.com
SUMMARY:Ethics and Guidelines for Professional Practice w/Sherra\, 5/20/26
DESCRIPTION:Ethics and Guidelines for Professional Practice\n\n\n\n\n\n\n\n\nGeneral review of the Ethics\, and Guidelines for Professional Practice sections of the exam. We will discuss important study points and sample questions. \nIdeal for the student who has tested borderline or low in one or both of these sections\, or who needs additional tutoring in their course. \n\n\n\n\n\n\n\n\n$25 per hour ($35 total) \nAfter payment is successful\, you will be redirected to the registration page.  Register for the event\, and the event link will be emailed to you with your registration confirmation. \nRegister ×
URL:https://mblextutors.com/events/ethics-and-guidelines-for-professional-practice-w-sherra-5-20-26/
CATEGORIES:Sherra
ATTACH;FMTTYPE=image/webp:https://mblextutors.com/wp-content/uploads/2025/12/sherra-thumbnail.webp
END:VEVENT
BEGIN:VEVENT
DTSTART;TZID=America/New_York:20260526T150000
DTEND;TZID=America/New_York:20260526T170000
DTSTAMP:20260425T183901
CREATED:20260421T191837Z
LAST-MODIFIED:20260421T192803Z
UID:4190-1779807600-1779814800@mblextutors.com
SUMMARY:Anatomy Review w/Sherra\, 5/26/26
DESCRIPTION:Anatomy Review\nGeneral review of anatomy and physiology section of exam.  We will discuss important test points for each body system and sample questions. \nThis course is ideal for the student who has tested borderline or low in Anatomy\, or who needs additional tutoring in their course to round out their knowledge. \n$25 per hour ($50 total) \nAfter payment is successful\, you will be redirected to the registration page.  Register for the event\, and the event link will be emailed to you with your registration confirmation. \nRegister ×
URL:https://mblextutors.com/events/anatomy-review-w-sherra-5-26-2026/
CATEGORIES:Sherra
ATTACH;FMTTYPE=image/webp:https://mblextutors.com/wp-content/uploads/2025/12/sherra-thumbnail.webp
END:VEVENT
END:VCALENDAR