BEGIN:VCALENDAR
VERSION:2.0
PRODID:-//MBLEx Tutors - ECPv6.15.20//NONSGML v1.0//EN
CALSCALE:GREGORIAN
METHOD:PUBLISH
X-WR-CALNAME:MBLEx Tutors
X-ORIGINAL-URL:https://mblextutors.com
X-WR-CALDESC:Events for MBLEx Tutors
REFRESH-INTERVAL;VALUE=DURATION:PT1H
X-Robots-Tag:noindex
X-PUBLISHED-TTL:PT1H
BEGIN:VTIMEZONE
TZID:America/New_York
BEGIN:DAYLIGHT
TZOFFSETFROM:-0500
TZOFFSETTO:-0400
TZNAME:EDT
DTSTART:20250309T070000
END:DAYLIGHT
BEGIN:STANDARD
TZOFFSETFROM:-0400
TZOFFSETTO:-0500
TZNAME:EST
DTSTART:20251102T060000
END:STANDARD
BEGIN:DAYLIGHT
TZOFFSETFROM:-0500
TZOFFSETTO:-0400
TZNAME:EDT
DTSTART:20260308T070000
END:DAYLIGHT
BEGIN:STANDARD
TZOFFSETFROM:-0400
TZOFFSETTO:-0500
TZNAME:EST
DTSTART:20261101T060000
END:STANDARD
BEGIN:DAYLIGHT
TZOFFSETFROM:-0500
TZOFFSETTO:-0400
TZNAME:EDT
DTSTART:20270314T070000
END:DAYLIGHT
BEGIN:STANDARD
TZOFFSETFROM:-0400
TZOFFSETTO:-0500
TZNAME:EST
DTSTART:20271107T060000
END:STANDARD
END:VTIMEZONE
BEGIN:VEVENT
DTSTART;TZID=America/New_York:20260428T100000
DTEND;TZID=America/New_York:20260428T113000
DTSTAMP:20260425T202248
CREATED:20260425T193723Z
LAST-MODIFIED:20260425T193723Z
UID:4217-1777370400-1777375800@mblextutors.com
SUMMARY:Cardiovascular and Digestive Pathologies w/David\, 4/28/26
DESCRIPTION:Cardiovascular and Digestive Pathologies\nJoin David as we discuss pathologies of the Cardiovascular and Digestive Systems! We will discuss specific diseases\, disorders\, and conditions\, causes\, symptoms\, treatments\, and contraindications for each! This is a great asset that helps with assessment of clients\, which is a primary factor that the MBLEx is looking for with the test questions! \nThis course will review: \n\nCardiovascular Pathologies\nDigestive Pathologies\nCauses of each condition\nSymptoms\nTreatments and Contraindications\n\n$25 per hour ($35 total) \nAfter payment is successful\, you will be redirected to the registration page.  Register for the event\, and the event link will be emailed to you with your registration confirmation. \nRegister ×
URL:https://mblextutors.com/events/cardiovascular-and-digestive-pathologies-w-david-4-28-26/
CATEGORIES:David
ATTACH;FMTTYPE=image/webp:https://mblextutors.com/wp-content/uploads/2025/12/david-thumbnail.webp
END:VEVENT
BEGIN:VEVENT
DTSTART;TZID=America/New_York:20260430T100000
DTEND;TZID=America/New_York:20260430T130000
DTSTAMP:20260425T202248
CREATED:20260425T192318Z
LAST-MODIFIED:20260425T194401Z
UID:4212-1777543200-1777554000@mblextutors.com
SUMMARY:Bony Landmarks Review w/David\, 4/30/26
DESCRIPTION:Bony Landmarks Review\nJoin David for a review of the major bony landmarks you need to know for the MBLEx!  In this session\, the bony landmarks of the major bones\, including origins and insertions of the muscles that attach to the bony landmarks\, are discussed.  This will help you build a solid foundation for understanding Kinesiology\, where muscles attach\, and how we can incorporate that knowledge into properly assessing a client in regards to posture\, gait\, range-of-motion\, and more! \nLandmarks and attachment sites of the following bones are reviewed: \n\nScapula\nHumerus\nRadius and Ulna\nPelvis\nFemur\nTibia and Fibula\n\n$25 per hour ($75 total) \nAfter payment is successful\, you will be redirected to the registration page.  Register for the event\, and the event link will be emailed to you with your registration confirmation. \nRegister ×
URL:https://mblextutors.com/events/bony-landmarks-review-w-david-4-30-26/
CATEGORIES:David
ATTACH;FMTTYPE=image/webp:https://mblextutors.com/wp-content/uploads/2025/12/david-thumbnail.webp
END:VEVENT
END:VCALENDAR